BEGIN:VCALENDAR
VERSION:2.0
PRODID:-//Association PolyKystose France - ECPv6.15.18//NONSGML v1.0//EN
CALSCALE:GREGORIAN
METHOD:PUBLISH
X-ORIGINAL-URL:https://www.polykystose.org
X-WR-CALDESC:Évènements pour Association PolyKystose France
REFRESH-INTERVAL;VALUE=DURATION:PT1H
X-Robots-Tag:noindex
X-PUBLISHED-TTL:PT1H
BEGIN:VTIMEZONE
TZID:Europe/Paris
BEGIN:DAYLIGHT
TZOFFSETFROM:+0100
TZOFFSETTO:+0200
TZNAME:CEST
DTSTART:20230326T010000
END:DAYLIGHT
BEGIN:STANDARD
TZOFFSETFROM:+0200
TZOFFSETTO:+0100
TZNAME:CET
DTSTART:20231029T010000
END:STANDARD
BEGIN:DAYLIGHT
TZOFFSETFROM:+0100
TZOFFSETTO:+0200
TZNAME:CEST
DTSTART:20240331T010000
END:DAYLIGHT
BEGIN:STANDARD
TZOFFSETFROM:+0200
TZOFFSETTO:+0100
TZNAME:CET
DTSTART:20241027T010000
END:STANDARD
BEGIN:DAYLIGHT
TZOFFSETFROM:+0100
TZOFFSETTO:+0200
TZNAME:CEST
DTSTART:20250330T010000
END:DAYLIGHT
BEGIN:STANDARD
TZOFFSETFROM:+0200
TZOFFSETTO:+0100
TZNAME:CET
DTSTART:20251026T010000
END:STANDARD
END:VTIMEZONE
BEGIN:VEVENT
DTSTART;TZID=Europe/Paris:20240817T143000
DTEND;TZID=Europe/Paris:20240817T163000
DTSTAMP:20260420T075728
CREATED:20240219T164859Z
LAST-MODIFIED:20240219T165512Z
UID:105706-1723905000-1723912200@www.polykystose.org
SUMMARY:Réunion du groupe de parole
DESCRIPTION:Voici les dates des prochaines réunion du groupe de parole ! \n\nsamedi 13 avril de 14h30 à 16h30\nsamedi 15 juin de 14h30 à 16h30\nsamedi 17 Août de 14h30 à 16h30\nsamedi 26 octobre de 14h30 à 16h30\nsamedi 28 décembre de 14h30 à 16h30\n\n  \n✍ Inscrivez-vous sur ce lien à tout moment pour recevoir les informations de connexion pour nous rejoindre ! \nℹ️ Une fois le formulaire rempli ⤵️vous recevrez une invitation pour vous connecter à notre groupe ZOOM « Groupe de parole Association Polykystose France » \nVous pourrez vous connecter à la réunion depuis votre ordinateur\, tablette ou smartphone. Les réunions peuvent aussi avoir lieu en présentiel si vous le souhaitez.
URL:https://www.polykystose.org/evenements/reunion-du-groupe-de-parole-5/
LOCATION:WEB
CATEGORIES:Groupe de parole
ATTACH;FMTTYPE=image/jpeg:https://www.polykystose.org/wp-content/uploads/2024/02/Groupe-de-parole-WEB.jpg
END:VEVENT
END:VCALENDAR